BEGIN:VCALENDAR
VERSION:2.0
PRODID:-//ddaysoftware.com//NONSGML DDay.iCal 1.0//EN
BEGIN:VEVENT
DESCRIPTION:Crispy bacon\, free-range eggs\, local baby spinach and smooth-
 as-silk Hollandaise sauce held together by a freshly baked Ahbi's bun. Mmm
 m. Visit us at the Stirling Markets on Sundays from 7.30-11.30am and enjoy
  a Gourmet Bacon and Egg Burger made with love.    
DTEND:20190421T033000Z
DTSTAMP:20190227T134222Z
DTSTART:20190420T233000Z
LOCATION:Stirling Markets
SEQUENCE:1
STATUS:Confirmed
SUMMARY:Bacon and Eggs
UID:602fb4a4-031b-4375-968a-2eaf7be07491-636913998000000000
X-ALT-DESC;FMTTYPE=text/html:<div>Crispy bacon\, free-range eggs\, local ba
 by spinach and smooth-as-silk Hollandaise sauce held together by a freshly
  baked Ahbi's bun. Mmmm. Visit us at the Stirling Markets on Sundays from 
 7.30-11.30am and enjoy a Gourmet Bacon and Egg Burger made with love.</div
 >\n\n<div>&nbsp\;</div>\n
END:VEVENT
END:VCALENDAR
